BEGIN:VCALENDAR
VERSION:2.0
PRODID:Events Booking
BEGIN:VEVENT
UID:69e8dc839fee1
SUMMARY:Associate Certified Enterprise Architect (ACEA) Green Belt - Spring
  2026 (S26GB)
DESCRIPTION:Become a Green Belt in Enterprise Architecture. This highly cov
 eted certifcation with designation of Associate Certified Enterprise Archi
 tect (ACEA)\, is offered live in our virtual classroom totally online (dur
 ing specified classroom time periods).
 SAVE $$$ with early bird pricing!
LOCATION:District of Columbia\, United States
DTSTART:20260427T060000Z
DTEND:20260604T060000Z
DTSTAMP:20220226T035330Z
ORGANIZER;CN=Zachman International / FEAC Institute:MAILTO:info@zachman-fea
 c.com
GEO:38.895037;-77.036543
X-APPLE-STRUCTURED-LOCATION;VALUE=URI;X-ADDRESS=District of Columbia\, Unit
 ed States;X-APPLE-RADIUS=72;X-TITLE=Virtual University:38.895037;-77.03654
 3
END:VEVENT
BEGIN:VEVENT
UID:69e8dc83a002e
SUMMARY:Associate Certified Enterprise Architect (ACEA) Green Belt - Fall 2
 026 (F26GB)
DESCRIPTION:Become a Green Belt in Enterprise Architecture. This highly cov
 eted certifcation with designation of Associate Certified Enterprise Archi
 tect (ACEA)\, is offered live in our virtual classroom totally online (dur
 ing specified classroom time periods).
 SAVE $$$ with early bird pricing!
LOCATION:District of Columbia\, United States
DTSTART:20260914T060000Z
DTEND:20261019T060000Z
DTSTAMP:20220226T035330Z
ORGANIZER;CN=Zachman International / FEAC Institute:MAILTO:info@zachman-fea
 c.com
GEO:38.895037;-77.036543
X-APPLE-STRUCTURED-LOCATION;VALUE=URI;X-ADDRESS=District of Columbia\, Unit
 ed States;X-APPLE-RADIUS=72;X-TITLE=Virtual University:38.895037;-77.03654
 3
END:VEVENT
END:VCALENDAR