BEGIN:VCALENDAR
VERSION:2.0
PRODID:Events Booking
BEGIN:VEVENT
UID:69e8da50d0b7f
SUMMARY:Certified Enterprise Architect Practitioner (CEAP) Yellow Belt (ASY
 B)
DESCRIPTION:Certification: Certified Enterprise Architect Practitioner (CEA
 P)Format: Remote-learningContent: Practicum-based\, hand's-on modeling\, l
 ive mentorship to develop competencyRolling Enrollment: Classes start ever
 y Monday!
LOCATION:District of Columbia\, United States
DTSTART:20260101T070000Z
DTEND:20261231T070000Z
DTSTAMP:20220226T035532Z
ORGANIZER;CN=Zachman International / FEAC Institute:MAILTO:info@zachman-fea
 c.com
GEO:38.895037;-77.036543
X-APPLE-STRUCTURED-LOCATION;VALUE=URI;X-ADDRESS=District of Columbia\, Unit
 ed States;X-APPLE-RADIUS=72;X-TITLE=Virtual University:38.895037;-77.03654
 3
END:VEVENT
END:VCALENDAR